BEGIN:VCALENDAR
VERSION:2.0
PRODID:icalendar-ruby
CALSCALE:GREGORIAN
BEGIN:VEVENT
DTSTAMP:20260422T181625Z
UID:e06e9bb7-500f-47df-9e2a-c840bb7f87b3
DTSTART;VALUE=DATE:20200305
DESCRIPTION:Property ID# 472885\, Locatoin: 8 Kent Terrace\, Wellington\, T
 ime: 12:00PM
SUMMARY:Auction for 
END:VEVENT
END:VCALENDAR
