BEGIN:VCALENDAR
VERSION:2.0
PRODID:icalendar-ruby
CALSCALE:GREGORIAN
BEGIN:VEVENT
DTSTAMP:20260422T182305Z
UID:c9f472ea-cdf1-409c-b434-f4be0de9e298
DTSTART;VALUE=DATE:20201203
DESCRIPTION:Property ID# 472890\, Locatoin: 8 Kent Terrace\, Wellington\, T
 ime: 2:00PM
SUMMARY:Auction for 
END:VEVENT
END:VCALENDAR
