BEGIN:VCALENDAR
VERSION:2.0
PRODID:icalendar-ruby
CALSCALE:GREGORIAN
BEGIN:VEVENT
DTSTAMP:20260422T082803Z
UID:ae9c5eef-a5b5-479a-b38a-d868a2cf0940
DTSTART;VALUE=DATE:20210211
DESCRIPTION:Property ID# 499954\, Time: 2:00PM
SUMMARY:Auction for 
END:VEVENT
END:VCALENDAR
