BEGIN:VCALENDAR
VERSION:2.0
PRODID:icalendar-ruby
CALSCALE:GREGORIAN
BEGIN:VEVENT
DTSTAMP:20260421T082200Z
UID:686dc5fb-4074-40e4-b1e1-f02ff979b98b
DTSTART;VALUE=DATE:20231207
DESCRIPTION:Property ID# 566772\, Locatoin: 21 Ganges Road\, Khandallah\, T
 ime: 12:00PM
SUMMARY:Auction for 
END:VEVENT
END:VCALENDAR
