BEGIN:VCALENDAR
VERSION:2.0
PRODID:icalendar-ruby
CALSCALE:GREGORIAN
BEGIN:VEVENT
DTSTAMP:20260422T180500Z
UID:11639b91-0f6e-4700-8b96-fd000c4e4621
DTSTART;VALUE=DATE:20241128
DESCRIPTION:Property ID# 582600\, Locatoin: 8 Kent Terrace\, Wellington\, T
 ime: 3:00PM
SUMMARY:Auction for 
END:VEVENT
END:VCALENDAR
